BEGIN:VCALENDAR
VERSION:2.0
PRODID:-//wp-events-plugin.com//7.2.1//EN
TZID:Europe/Copenhagen
X-WR-TIMEZONE:Europe/Copenhagen
BEGIN:VEVENT
UID:213@bedandbeer-fyn.dk
DTSTART;TZID=Europe/Copenhagen:20260331T000000
DTEND;TZID=Europe/Copenhagen:20260401T000000
DTSTAMP:20251227T131841Z
URL:https://bedandbeer-fyn.dk/events/denne-onsdag-er-der-aaben-for-booking
 -af-en-enkel-overnatning-hos-humledriks-bed-and-beer-klik-her-og-se-hvor-m
 ange-vaerelser-der-forsat-er-ledig-3/
SUMMARY:Denne tirsdag er der åben for booking af en enkel overnatning hos 
 Humledriks Bed and Beer. Klik her og se hvor mange værelser der forsat er
  ledig.
DESCRIPTION:Denne tirsdag er der åben for booking af en enkel overnatning 
 med ankomst mellem kl. 11.00-15.00\nØlsmagning kl. 15.30 og morgenmad næ
 ste morgen.\n\nVi har 5 værelser ledig endnu.\n\nBook et ophold\n\nPris:\
 n719 kr. pr. person i dobbeltværelse.\n935 kr. pr. person i enkeltværels
 e.\n\nRing eller skriv til os for at booke værelse.\nBemærk du kan ikke 
 booke online.\ninfo@humledrik.dk\nTlf. 20662804
END:VEVENT
BEGIN:VTIMEZONE
TZID:Europe/Copenhagen
X-LIC-LOCATION:Europe/Copenhagen
BEGIN:DAYLIGHT
DTSTART:20260329T030000
TZOFFSETFROM:+0100
TZOFFSETTO:+0200
TZNAME:CEST
END:DAYLIGHT
END:VTIMEZONE
END:VCALENDAR