BEGIN:VCALENDAR
VERSION:2.0
PRODID:-//wp-events-plugin.com//7.2.1//EN
TZID:Europe/Copenhagen
X-WR-TIMEZONE:Europe/Copenhagen
BEGIN:VEVENT
UID:214@bedandbeer-fyn.dk
DTSTART;TZID=Europe/Copenhagen:20260330T000000
DTEND;TZID=Europe/Copenhagen:20260401T000000
DTSTAMP:20251227T131818Z
URL:https://bedandbeer-fyn.dk/events/denne-tirsdag-er-der-aaben-for-bookin
 g-af-2-dages-ophold-klik-her-for-at-se-hvor-mange-vaerelser-der-forsat-er-
 ledig-3/
SUMMARY:Denne mandag er der åben for booking af 2 dages ophold – Klik he
 r for at se hvor mange værelser der forsat er ledig.
DESCRIPTION:Denne mandag er der åben for booking af 2 dages ophold med tap
 as og ølbræt ved ankomst mandag aften og ølsmagning tirsdag eftermiddag
  kl. 15.30 samt morgenmad begge dage.\nAnkomst mellem kl. 15.00-18.00\nTap
 as serveres kl. 19.00\n\nVi har 5 værelser ledig endnu.\n\nBook et ophold
 \n\nPris:\n1255 kr. pr. person i dobbeltværelse.\n1525 kr. pr. person i e
 nkeltværelse.\n\nRing eller skriv til os for at booke værelse.\nBemærk 
 du kan ikke booke online.\ninfo@humledrik.dk\nTlf. 20662804
END:VEVENT
BEGIN:VTIMEZONE
TZID:Europe/Copenhagen
X-LIC-LOCATION:Europe/Copenhagen
BEGIN:DAYLIGHT
DTSTART:20260329T030000
TZOFFSETFROM:+0100
TZOFFSETTO:+0200
TZNAME:CEST
END:DAYLIGHT
END:VTIMEZONE
END:VCALENDAR