BEGIN:VCALENDAR
VERSION:2.0
PRODID:-//wp-events-plugin.com//7.2.1//EN
TZID:Europe/Copenhagen
X-WR-TIMEZONE:Europe/Copenhagen
BEGIN:VEVENT
UID:226@bedandbeer-fyn.dk
DTSTART;TZID=Europe/Copenhagen:20260312T000000
DTEND;TZID=Europe/Copenhagen:20260313T000000
DTSTAMP:20251227T131540Z
URL:https://bedandbeer-fyn.dk/events/denne-torsdag-er-der-aaben-for-bookin
 g-af-en-enkel-overnatning-hos-humledriks-bed-and-beer-klik-her-og-se-hvor-
 mange-vaerelser-der-forsat-er-ledig-3/
SUMMARY:Denne torsdag er der åben for booking af en enkel overnatning hos 
 Humledriks Bed and Beer. Klik her og se hvor mange værelser der forsat er
  ledig.
DESCRIPTION:Denne torsdag er der åben for booking af en enkel overnatning 
 med ankomst mellem kl. 11.00-15.00\nØlsmagning kl. 15.30 og morgenmad næ
 ste morgen.\n\nVi har 5 værelser ledig endnu.\n\nBook et ophold\n\n&nbsp\
 ;\n\nOvernat i vores Bed and Beer i hverdage og få 10% rabat\n\nPris ved 
 booking i hverdage:\n719 kr. pr. person i dobbeltværelse.\n935 kr. pr. pe
 rson i enkeltværelse.\n\nRing eller skriv til os for at booke værelse.\n
 Bemærk du kan ikke booke online.\ninfo@humledrik.dk\nTlf. 20662804
END:VEVENT
BEGIN:VTIMEZONE
TZID:Europe/Copenhagen
X-LIC-LOCATION:Europe/Copenhagen
BEGIN:STANDARD
DTSTART:20251026T020000
TZOFFSETFROM:+0200
TZOFFSETTO:+0100
TZNAME:CET
END:STANDARD
END:VTIMEZONE
END:VCALENDAR