BEGIN:VCALENDAR
VERSION:2.0
PRODID:-//wp-events-plugin.com//7.2.1//EN
TZID:Europe/Copenhagen
X-WR-TIMEZONE:Europe/Copenhagen
BEGIN:VEVENT
UID:206@bedandbeer-fyn.dk
DTSTART;TZID=Europe/Copenhagen:20260327T000000
DTEND;TZID=Europe/Copenhagen:20260329T000000
DTSTAMP:20260208T131356Z
URL:https://bedandbeer-fyn.dk/events/denne-weekend-er-der-mulighed-for-at-
 booke-1-eller-2-overnatninger-hos-humledriks-bed-and-beer-klik-her-og-se-h
 vor-mange-vaerelser-der-forsat-er-ledig-8/
SUMMARY:Denne weekend er der mulighed for at booke 1 eller 2 overnatninger 
 hos Humledriks Bed and Beer.  Klik her og se hvor mange værelser der fors
 at er ledig.
DESCRIPTION:Denne weekend er der mulighed for at booke en eller to overnatn
 inger hos Humledriks Bed and Beer.\nVi har 1 dobbeltværelser ledig endnu.
 \n\nBook to overnatninger fra fredag til søndag eller en overnatning fra 
 lørdag til søndag.\n\nBooker du to overnatninger\, serverer vi hjemmelav
 et tapasplatte med smagning af 5 forskellige specialøl fredag aften\n\nBo
 ok et ophold\n\nGruppe på 9-10 personer læs mere her.\n\nPris for to ove
 rnatninger:\n1395 kr. pr. person i dobbeltværelse\n1695 kr. pr. person i 
 enkeltværelse\n\nPris for en overnatning:\n799 kr. pr. person i dobbeltv
 ærelse.\n1039 kr. pr. person i enkeltværelse.\n\nAlle weekendopholds pri
 ser er med morgenmad og ølsmagning.\n\nRing eller skriv til os for at boo
 ke værelse.\nBemærk du kan ikke booke online.\ninfo@humledrik.dk\nTlf. 2
 0662804\n\n&nbsp\;
END:VEVENT
BEGIN:VTIMEZONE
TZID:Europe/Copenhagen
X-LIC-LOCATION:Europe/Copenhagen
BEGIN:STANDARD
DTSTART:20251026T020000
TZOFFSETFROM:+0200
TZOFFSETTO:+0100
TZNAME:CET
END:STANDARD
END:VTIMEZONE
END:VCALENDAR